BEGIN:VCALENDAR
VERSION:2.0
PRODID:-//time.now/holidays//NONSGML v1.0//EN
BEGIN:VEVENT
UID:385423c3-b0ff-487f-b44c-2b97f8da740a
DTSTAMP:20260422T103921Z
DTSTART;VALUE=DATE:20260316
SUMMARY:Day after Night of Power (Costa de Marfil)
END:VEVENT
END:VCALENDAR