BEGIN:VCALENDAR
VERSION:2.0
PRODID:-//time.now/holidays//NONSGML v1.0//EN
BEGIN:VEVENT
UID:adbdbb80-f00c-4dd5-90b3-80762cdd8e90
DTSTAMP:20260422T122731Z
DTSTART;VALUE=DATE:20240212
SUMMARY:2024 African Cup of Nations Victory (Costa de Marfil)
END:VEVENT
END:VCALENDAR