BEGIN:VCALENDAR
VERSION:2.0
PRODID:-//time.now/holidays//NONSGML v1.0//EN
BEGIN:VEVENT
UID:872b2a4f-f879-4df0-8368-657fa7912d04
DTSTAMP:20260422T090215Z
DTSTART;VALUE=DATE:20260815
SUMMARY:Mother's Day (Costa Rica)
END:VEVENT
END:VCALENDAR