BEGIN:VCALENDAR
VERSION:2.0
PRODID:-//time.now/holidays//NONSGML v1.0//EN
BEGIN:VEVENT
UID:05558f5d-40a0-41b3-8cb6-59c37e98229a
DTSTAMP:20260420T212507Z
DTSTART;VALUE=DATE:20260402
SUMMARY:Maundy Thursday (Costa Rica)
END:VEVENT
END:VCALENDAR