BEGIN:VCALENDAR
VERSION:2.0
PRODID:-//time.now/holidays//NONSGML v1.0//EN
BEGIN:VEVENT
UID:89d65fd6-9f43-444c-9061-ab95589f73a9
DTSTAMP:20260422T092433Z
DTSTART;VALUE=DATE:20260411
SUMMARY:Juan Santamaría Day (Costa Rica)
END:VEVENT
END:VCALENDAR