BEGIN:VCALENDAR
VERSION:2.0
PRODID:-//time.now/holidays//NONSGML v1.0//EN
BEGIN:VEVENT
UID:8df97e05-6a60-4c3c-aa68-a20384dfdb45
DTSTAMP:20260421T005748Z
DTSTART;VALUE=DATE:20240415
SUMMARY:Juan Santamaría Day (observed) (Costa Rica)
END:VEVENT
END:VCALENDAR