BEGIN:VCALENDAR
VERSION:2.0
PRODID:-//time.now/holidays//NONSGML v1.0//EN
BEGIN:VEVENT
UID:1506e8f8-6d88-44ad-805e-64160c8e7c2b
DTSTAMP:20260422T084038Z
DTSTART;VALUE=DATE:20261225
SUMMARY:Christmas Day (Costa Rica)
END:VEVENT
END:VCALENDAR