BEGIN:VCALENDAR
VERSION:2.0
PRODID:-//time.now/holidays//NONSGML v1.0//EN
BEGIN:VEVENT
UID:f157c635-d3c1-461c-ab45-e5ba0f7121cb
DTSTAMP:20260422T085554Z
DTSTART;VALUE=DATE:20260601
SUMMARY:Sovereign's Birthday (Islas Cook)
END:VEVENT
END:VCALENDAR