BEGIN:VCALENDAR
VERSION:2.0
PRODID:-//time.now/holidays//NONSGML v1.0//EN
BEGIN:VEVENT
UID:8885937e-bad4-4dd4-ab40-75aa4e5bd873
DTSTAMP:20260420T201055Z
DTSTART;VALUE=DATE:20260101
SUMMARY:New Year's Day (Islas Cook)
END:VEVENT
END:VCALENDAR