BEGIN:VCALENDAR
VERSION:2.0
PRODID:-//time.now/holidays//NONSGML v1.0//EN
BEGIN:VEVENT
UID:4b32ed25-ef9a-4a9a-8343-4682ba425870
DTSTAMP:20260420T213851Z
DTSTART;VALUE=DATE:20280103
SUMMARY:New Year's Day (observed) (Islas Cook)
END:VEVENT
END:VCALENDAR