BEGIN:VCALENDAR
VERSION:2.0
PRODID:-//time.now/holidays//NONSGML v1.0//EN
BEGIN:VEVENT
UID:982d3522-896d-4d7a-8dbb-d0ace7b7383c
DTSTAMP:20260421T022602Z
DTSTART;VALUE=DATE:20260703
SUMMARY:Day of the House of Ariki (Islas Cook)
END:VEVENT
END:VCALENDAR