BEGIN:VCALENDAR
VERSION:2.0
PRODID:-//time.now/holidays//NONSGML v1.0//EN
BEGIN:VEVENT
UID:ea933840-36f5-4faa-b88b-7bb0d0daf375
DTSTAMP:20260422T090608Z
DTSTART;VALUE=DATE:20260102
SUMMARY:Day after New Year's Day (Islas Cook)
END:VEVENT
END:VCALENDAR