BEGIN:VCALENDAR
VERSION:2.0
PRODID:-//time.now/holidays//NONSGML v1.0//EN
BEGIN:VEVENT
UID:161f050d-cbee-4ee8-98aa-e90869275676
DTSTAMP:20260420T141117Z
DTSTART;VALUE=DATE:20260425
SUMMARY:Anzac Day (Islas Cook)
END:VEVENT
END:VCALENDAR