BEGIN:VCALENDAR
VERSION:2.0
PRODID:-//time.now/holidays//NONSGML v1.0//EN
BEGIN:VEVENT
UID:95649ffe-f1d0-4ad5-91ca-0763eb020929
DTSTAMP:20260420T041423Z
DTSTART;VALUE=DATE:20260101
SUMMARY:New Year's Day (República del Congo)
END:VEVENT
END:VCALENDAR