BEGIN:VCALENDAR
VERSION:2.0
PRODID:-//time.now/holidays//NONSGML v1.0//EN
BEGIN:VEVENT
UID:e0fecbdc-d8f1-44e7-91f9-52628d7be8bd
DTSTAMP:20260420T004526Z
DTSTART;VALUE=DATE:20260514
SUMMARY:Ascension Day (República del Congo)
END:VEVENT
END:VCALENDAR