BEGIN:VCALENDAR
VERSION:2.0
PRODID:-//time.now/holidays//NONSGML v1.0//EN
BEGIN:VEVENT
UID:df8c39c1-7924-46d2-8e38-175abee473d0
DTSTAMP:20260422T122731Z
DTSTART;VALUE=DATE:20300701
SUMMARY:Sacred Heart (observed); Saint Peter and Saint Paul's Day (observed) (Colombia)
END:VEVENT
END:VCALENDAR