BEGIN:VCALENDAR
VERSION:2.0
PRODID:-//time.now/holidays//NONSGML v1.0//EN
BEGIN:VEVENT
UID:9997a046-d496-485c-bfee-88f284c2889e
DTSTAMP:20260422T151412Z
DTSTART;VALUE=DATE:20261116
SUMMARY:Independence of Cartagena (observed) (Colombia)
END:VEVENT
END:VCALENDAR