BEGIN:VCALENDAR
VERSION:2.0
PRODID:-//time.now/holidays//NONSGML v1.0//EN
BEGIN:VEVENT
UID:90c7db4c-961d-4d85-89cb-bca8e7d99766
DTSTAMP:20260420T075046Z
DTSTART;VALUE=DATE:20260720
SUMMARY:Independence Day (Colombia)
END:VEVENT
END:VCALENDAR