BEGIN:VCALENDAR
VERSION:2.0
PRODID:-//time.now/holidays//NONSGML v1.0//EN
BEGIN:VEVENT
UID:d96e9f57-7d1f-4289-869c-b950f6521f58
DTSTAMP:20260420T021204Z
DTSTART;VALUE=DATE:20310106
SUMMARY:Epiphany (Colombia)
END:VEVENT
END:VCALENDAR