BEGIN:VCALENDAR
VERSION:2.0
PRODID:-//time.now/holidays//NONSGML v1.0//EN
BEGIN:VEVENT
UID:28538142-58c2-4c4a-b7af-ba240ea9b5f0
DTSTAMP:20260422T093226Z
DTSTART;VALUE=DATE:20260807
SUMMARY:Battle of Boyacá (Colombia)
END:VEVENT
END:VCALENDAR