BEGIN:VCALENDAR
VERSION:2.0
PRODID:-//time.now/holidays//NONSGML v1.0//EN
BEGIN:VEVENT
UID:94e878bc-6246-4c64-a5ce-301c1e502e43
DTSTAMP:20260420T051928Z
DTSTART;VALUE=DATE:20330815
SUMMARY:Assumption Day (Colombia)
END:VEVENT
END:VCALENDAR