BEGIN:VCALENDAR
VERSION:2.0
PRODID:-//time.now/holidays//NONSGML v1.0//EN
BEGIN:VEVENT
UID:e99e32de-3287-4ac2-b596-4b35224850e6
DTSTAMP:20260422T223820Z
DTSTART;VALUE=DATE:20260101
SUMMARY:New Year's Day (Islas Cocos (Keeling))
END:VEVENT
END:VCALENDAR