BEGIN:VCALENDAR
VERSION:2.0
PRODID:-//time.now/holidays//NONSGML v1.0//EN
BEGIN:VEVENT
UID:6a48897f-819b-44e9-bcb0-5f9112078d97
DTSTAMP:20260421T035630Z
DTSTART;VALUE=DATE:20220922
SUMMARY:National Day of Mourning for Queen Elizabeth II (Islas Cocos (Keeling))
END:VEVENT
END:VCALENDAR