BEGIN:VCALENDAR
VERSION:2.0
PRODID:-//time.now/holidays//NONSGML v1.0//EN
BEGIN:VEVENT
UID:f06c0c64-56a4-43c5-b117-709cd6f9a4de
DTSTAMP:20260422T090506Z
DTSTART;VALUE=DATE:20230424
SUMMARY:Eid al-Fitr (observed) (Islas Cocos (Keeling))
END:VEVENT
END:VCALENDAR