BEGIN:VCALENDAR
VERSION:2.0
PRODID:-//time.now/holidays//NONSGML v1.0//EN
BEGIN:VEVENT
UID:04adeb79-7439-4150-ad7d-7f4e56b0a1d6
DTSTAMP:20260422T223737Z
DTSTART;VALUE=DATE:20250607
SUMMARY:Eid al-Adha (Islas Cocos (Keeling))
END:VEVENT
END:VCALENDAR