BEGIN:VCALENDAR
VERSION:2.0
PRODID:-//time.now/holidays//NONSGML v1.0//EN
BEGIN:VEVENT
UID:2990bbe1-e167-4c5f-8236-a175e1332092
DTSTAMP:20260420T165303Z
DTSTART;VALUE=DATE:20270329
SUMMARY:Easter Monday (Islas Cocos (Keeling))
END:VEVENT
END:VCALENDAR