BEGIN:VCALENDAR
VERSION:2.0
PRODID:-//time.now/holidays//NONSGML v1.0//EN
BEGIN:VEVENT
UID:53faa830-19b3-488e-bef9-14f31bc5d10e
DTSTAMP:20260420T230908Z
DTSTART;VALUE=DATE:20331226
SUMMARY:Boxing Day; Christmas Day (observed) (Islas Cocos (Keeling))
END:VEVENT
END:VCALENDAR