BEGIN:VCALENDAR
VERSION:2.0
PRODID:-//time.now/holidays//NONSGML v1.0//EN
BEGIN:VEVENT
UID:7f8d13aa-3f07-4f5f-b9e3-55228691bc76
DTSTAMP:20260420T215256Z
DTSTART;VALUE=DATE:20300128
SUMMARY:Australia Day (observed) (Islas Cocos (Keeling))
END:VEVENT
END:VCALENDAR