BEGIN:VCALENDAR
VERSION:2.0
PRODID:-//time.now/holidays//NONSGML v1.0//EN
BEGIN:VEVENT
UID:9405c947-e805-4da8-99df-bbd41cbc1369
DTSTAMP:20260422T124528Z
DTSTART;VALUE=DATE:20260406
SUMMARY:Act of Self Determination Day; Easter Monday (Islas Cocos (Keeling))
END:VEVENT
END:VCALENDAR