BEGIN:VCALENDAR
VERSION:2.0
PRODID:-//time.now/holidays//NONSGML v1.0//EN
BEGIN:VEVENT
UID:8cfedf46-e9f4-4254-91f0-9a274eca64e8
DTSTAMP:20260420T180759Z
DTSTART;VALUE=DATE:20280103
SUMMARY:New Year's Day (observed) (China)
END:VEVENT
END:VCALENDAR