BEGIN:VCALENDAR
VERSION:2.0
PRODID:-//time.now/holidays//NONSGML v1.0//EN
BEGIN:VEVENT
UID:0b0c5750-696d-46fb-a521-21fe3fb5b11d
DTSTAMP:20260420T143037Z
DTSTART;VALUE=DATE:20261001
SUMMARY:National Day (China)
END:VEVENT
END:VCALENDAR