BEGIN:VCALENDAR
VERSION:2.0
PRODID:-//time.now/holidays//NONSGML v1.0//EN
BEGIN:VEVENT
UID:1d2d18a1-a6cf-4b8f-bc82-69c00941f7f7
DTSTAMP:20260422T092122Z
DTSTART;VALUE=DATE:20290924
SUMMARY:Mid-Autumn Festival (observed) (China)
END:VEVENT
END:VCALENDAR