BEGIN:VCALENDAR
VERSION:2.0
PRODID:-//time.now/holidays//NONSGML v1.0//EN
BEGIN:VEVENT
UID:30376ff5-278a-4173-80d6-233d0564e3b5
DTSTAMP:20260422T164630Z
DTSTART;VALUE=DATE:20281003
SUMMARY:Mid-Autumn Festival; National Day (China)
END:VEVENT
END:VCALENDAR