BEGIN:VCALENDAR
VERSION:2.0
PRODID:-//time.now/holidays//NONSGML v1.0//EN
BEGIN:VEVENT
UID:d9e9264f-d143-440e-b4dd-7415e940959c
DTSTAMP:20260420T205152Z
DTSTART;VALUE=DATE:20251007
SUMMARY:Day off (substituted from 09/28/2025) (China)
END:VEVENT
END:VCALENDAR