BEGIN:VCALENDAR
VERSION:2.0
PRODID:-//time.now/holidays//NONSGML v1.0//EN
BEGIN:VEVENT
UID:0585aeee-0ac4-4d68-959f-c4c99a31ea56
DTSTAMP:20260420T203625Z
DTSTART;VALUE=DATE:20240216
SUMMARY:Day off (substituted from 02/18/2024) (China)
END:VEVENT
END:VCALENDAR