BEGIN:VCALENDAR
VERSION:2.0
PRODID:-//time.now/holidays//NONSGML v1.0//EN
BEGIN:VEVENT
UID:a62fdfd5-5b6f-44e3-80c3-01d8e9444fc8
DTSTAMP:20260420T200726Z
DTSTART;VALUE=DATE:20250204
SUMMARY:Day off (substituted from 02/08/2025) (China)
END:VEVENT
END:VCALENDAR