BEGIN:VCALENDAR
VERSION:2.0
PRODID:-//time.now/holidays//NONSGML v1.0//EN
BEGIN:VEVENT
UID:347ec554-c10c-451d-9725-200d8ba26414
DTSTAMP:20260420T204014Z
DTSTART;VALUE=DATE:20260629
SUMMARY:Saint Peter and Saint Paul's Day (Chile)
END:VEVENT
END:VCALENDAR