BEGIN:VCALENDAR
VERSION:2.0
PRODID:-//time.now/holidays//NONSGML v1.0//EN
BEGIN:VEVENT
UID:1906cfbe-ee1e-4c07-8640-8bafe0d46cf4
DTSTAMP:20260420T045229Z
DTSTART;VALUE=DATE:20260501
SUMMARY:Labor Day (Chile)
END:VEVENT
END:VCALENDAR