BEGIN:VCALENDAR
VERSION:2.0
PRODID:-//time.now/holidays//NONSGML v1.0//EN
BEGIN:VEVENT
UID:f90e3edf-ce4e-480d-bd10-ee3b83aa40a8
DTSTAMP:20260420T015739Z
DTSTART;VALUE=DATE:20261128
SUMMARY:Republic Day (Chad)
END:VEVENT
END:VCALENDAR