BEGIN:VCALENDAR
VERSION:2.0
PRODID:-//time.now/holidays//NONSGML v1.0//EN
BEGIN:VEVENT
UID:4e1f7d96-e445-4c8b-bb6b-ebe995925db4
DTSTAMP:20260420T000818Z
DTSTART;VALUE=DATE:20221008
SUMMARY:Mawlid (Chad)
END:VEVENT
END:VCALENDAR