BEGIN:VCALENDAR
VERSION:2.0
PRODID:-//time.now/holidays//NONSGML v1.0//EN
BEGIN:VEVENT
UID:81ee5bc1-293b-4088-ba84-3203886ecc9d
DTSTAMP:20260420T061158Z
DTSTART;VALUE=DATE:20260825
SUMMARY:Mawlid (estimated) (Chad)
END:VEVENT
END:VCALENDAR