BEGIN:VCALENDAR
VERSION:2.0
PRODID:-//time.now/holidays//NONSGML v1.0//EN
BEGIN:VEVENT
UID:17cf124f-f0c5-4e6a-9c56-413de09ac23a
DTSTAMP:20260422T103752Z
DTSTART;VALUE=DATE:20210423
SUMMARY:Funeral of Idriss Déby Itno (Chad)
END:VEVENT
END:VCALENDAR