BEGIN:VCALENDAR
VERSION:2.0
PRODID:-//time.now/holidays//NONSGML v1.0//EN
BEGIN:VEVENT
UID:7c3dcb72-65f9-4050-9ef4-b8d857df8c8f
DTSTAMP:20260420T123947Z
DTSTART;VALUE=DATE:20260518
SUMMARY:Victoria Day (Canadá)
END:VEVENT
END:VCALENDAR