BEGIN:VCALENDAR
VERSION:2.0
PRODID:-//time.now/holidays//NONSGML v1.0//EN
BEGIN:VEVENT
UID:7a64a2da-1b97-4b0a-a0f6-ad80477f0298
DTSTAMP:20260420T152234Z
DTSTART;VALUE=DATE:20280103
SUMMARY:New Year's Day (observed) (Canadá)
END:VEVENT
END:VCALENDAR