BEGIN:VCALENDAR
VERSION:2.0
PRODID:-//time.now/holidays//NONSGML v1.0//EN
BEGIN:VEVENT
UID:ae693284-c532-48c4-b8ce-234806db7458
DTSTAMP:20260420T035126Z
DTSTART;VALUE=DATE:20260907
SUMMARY:Labor Day (Canadá)
END:VEVENT
END:VCALENDAR