BEGIN:VCALENDAR
VERSION:2.0
PRODID:-//time.now/holidays//NONSGML v1.0//EN
BEGIN:VEVENT
UID:96eadad1-0952-4d79-af1a-70a8f786df57
DTSTAMP:20260420T014237Z
DTSTART;VALUE=DATE:20260817
SUMMARY:Discovery Day (Canadá)
END:VEVENT
END:VCALENDAR