BEGIN:VCALENDAR
VERSION:2.0
PRODID:-//time.now/holidays//NONSGML v1.0//EN
BEGIN:VEVENT
UID:e4431e45-0f10-4aa2-a8b6-bbb1d2315eeb
DTSTAMP:20260419T220628Z
DTSTART;VALUE=DATE:20210514
SUMMARY:Public Holiday (Camerún)
END:VEVENT
END:VCALENDAR