BEGIN:VCALENDAR
VERSION:2.0
PRODID:-//time.now/holidays//NONSGML v1.0//EN
BEGIN:VEVENT
UID:a06f7d4c-7500-4a88-b4de-ac9901e6da04
DTSTAMP:20260420T080432Z
DTSTART;VALUE=DATE:20260520
SUMMARY:National Day (Camerún)
END:VEVENT
END:VCALENDAR