BEGIN:VCALENDAR
VERSION:2.0
PRODID:-//time.now/holidays//NONSGML v1.0//EN
BEGIN:VEVENT
UID:331a52f8-ce85-4e48-aca9-832f82e5d4e3
DTSTAMP:20260420T060512Z
DTSTART;VALUE=DATE:20260825
SUMMARY:Mawlid (estimated) (Camerún)
END:VEVENT
END:VCALENDAR