BEGIN:VCALENDAR
VERSION:2.0
PRODID:-//time.now/holidays//NONSGML v1.0//EN
BEGIN:VEVENT
UID:e634cdfe-1ab9-4df9-ab22-a2b58a9fe2b7
DTSTAMP:20260420T170626Z
DTSTART;VALUE=DATE:20270517
SUMMARY:Eid al-Adha (estimated) (observed) (Camerún)
END:VEVENT
END:VCALENDAR